BEGIN:VCALENDAR
VERSION:2.0
PRODID:-//eventon.com NONSGML v1.0//EN
CALSCALE:GREGORIAN
METHOD:PUBLISH
BEGIN:VEVENT
UID:69ea35972694e
DTSTAMP:20260423T150703Z
DTSTART:20260509T100000Z
DTEND:20260509T000000Z
LOCATION:
SUMMARY:Natter and Nibbles
DESCRIPTION:\nhttps://gittisham.org.uk/events-directory/natter-and-nibble/
URL:https://gittisham.org.uk/events-directory/natter-and-nibble/
END:VEVENT
END:VCALENDAR