BEGIN:VCALENDAR
VERSION:2.0
PRODID:-//eventon.com NONSGML v1.0//EN
CALSCALE:GREGORIAN
METHOD:PUBLISH
BEGIN:VEVENT
UID:69ea356d19eba
DTSTAMP:20260423T150621Z
DTSTART:20260621T130000Z
DTEND:20260621T160000Z
LOCATION:
SUMMARY:Fathers Day BBQ
DESCRIPTION:More Details to follow\nhttps://gittisham.org.uk/events-directo
 ry/fathers-day-bbq/
URL:https://gittisham.org.uk/events-directory/fathers-day-bbq/
END:VEVENT
END:VCALENDAR