BEGIN:VCALENDAR
VERSION:2.0
PRODID:-//eventon.com NONSGML v1.0//EN
CALSCALE:GREGORIAN
METHOD:PUBLISH
BEGIN:VEVENT
UID:69ea35ddaa3cb
DTSTAMP:20260423T150813Z
DTSTART:20260905T020000Z
DTEND:20260905T040000Z
LOCATION:
SUMMARY:Gittisham Fete
DESCRIPTION:Live music\,  Cream Teas\,  Dog Show\,  Classic cars & much mor
 e\nhttps://gittisham.org.uk/events-directory/gittisham-fete/
URL:https://gittisham.org.uk/events-directory/gittisham-fete/
END:VEVENT
END:VCALENDAR