BEGIN:VCALENDAR
VERSION:2.0
PRODID:-//eventon.com NONSGML v1.0//EN
CALSCALE:GREGORIAN
METHOD:PUBLISH
BEGIN:VEVENT
UID:69ea361d3a852
DTSTAMP:20260423T150917Z
DTSTART:20260801T100000Z
DTEND:20260801T150000Z
LOCATION:
SUMMARY:Flower And Produce Show
DESCRIPTION:GITTISHAM FLOWER & PRODUCE SHOW SCHEDULE PDF Download bellow To
  be held at the Parish Hall on Saturday 1st August 2026 Potato bucket weigh
  in at 3:15pm The show will open at 2:30pm Teas and raffle Admission: Adult
 s 50p; Children 5-16 years 10p Entrance fee Sections A\, B\, C&nbsp; 20p: &
 nbsp; Children’s[..]\nhttps://gittisham.org.uk/events-directory/flower-an
 d-produce-show/
URL:https://gittisham.org.uk/events-directory/flower-and-produce-show/
END:VEVENT
END:VCALENDAR