BEGIN:VCALENDAR
VERSION:2.0
PRODID:-//eventon.com NONSGML v1.0//EN
CALSCALE:GREGORIAN
METHOD:PUBLISH
BEGIN:VEVENT
UID:69ea34c54c500
DTSTAMP:20260423T150333Z
DTSTART:20261128T190000Z
DTEND:20261128T220000Z
LOCATION:
SUMMARY:Christmas Bingo
DESCRIPTION:Christmas Bingo\nhttps://gittisham.org.uk/events-directory/chri
 stmas-bingo/
URL:https://gittisham.org.uk/events-directory/christmas-bingo/
END:VEVENT
END:VCALENDAR