BEGIN:VCALENDAR
VERSION:2.0
PRODID:-//eventon.com NONSGML v1.0//EN
CALSCALE:GREGORIAN
METHOD:PUBLISH
BEGIN:VEVENT
UID:69ea3597a1f6f
DTSTAMP:20260423T150703Z
DTSTART:20260511T190000Z
DTEND:20260511T220000Z
LOCATION:
SUMMARY:Gittisham Village Hall Annual General Meeting
DESCRIPTION:All Welcome\nhttps://gittisham.org.uk/events-directory/gittisha
 m-village-hall-annual-general-meeting/
URL:https://gittisham.org.uk/events-directory/gittisham-village-hall-annual-general-meeting/
END:VEVENT
END:VCALENDAR