BEGIN:VCALENDAR
VERSION:2.0
PRODID:-//eventon.com NONSGML v1.0//EN
CALSCALE:GREGORIAN
METHOD:PUBLISH
BEGIN:VEVENT
UID:69ea35dcc4d3a
DTSTAMP:20260423T150812Z
DTSTART:20260509T190000Z
DTEND:20260509T220000Z
LOCATION:
SUMMARY:Quiz Night
DESCRIPTION:\nhttps://gittisham.org.uk/events-directory/quiz-night/
URL:https://gittisham.org.uk/events-directory/quiz-night/
END:VEVENT
END:VCALENDAR