BEGIN:VCALENDAR
VERSION:2.0
PRODID:-//eventon.com NONSGML v1.0//EN
CALSCALE:GREGORIAN
METHOD:PUBLISH
BEGIN:VEVENT
UID:69ea363b457d0
DTSTAMP:20260423T150947Z
DTSTART:20260606T100000Z
DTEND:20260606T170000Z
LOCATION:
SUMMARY:Gittisham Church Flower Festival
DESCRIPTION:\nhttps://gittisham.org.uk/events-directory/gittisham-flower-fe
 stival/
URL:https://gittisham.org.uk/events-directory/gittisham-flower-festival/
END:VEVENT
END:VCALENDAR