BEGIN:VCALENDAR
VERSION:2.0
PRODID:-//eventon.com NONSGML v1.0//EN
CALSCALE:GREGORIAN
METHOD:PUBLISH
BEGIN:VEVENT
UID:69ea35e9282e4
DTSTAMP:20260423T150825Z
DTSTART:20261128T100000Z
DTEND:20261128T220000Z
LOCATION:
SUMMARY:Christmas Craft Fair
DESCRIPTION:Get ready for a full day of festive fun at the Gittisham Villag
 e Hall! Join us for our Christmas Bonanza Day on Friday\,  November 29th\, 
  and celebrate the start of the holiday season with a variety of events. Ch
 ristmas Craft FairStarting at 10:00 AM\,  our Christmas Craft Fair is the[.
 .]\nhttps://gittisham.org.uk/events-directory/christmas-craft-fair/
URL:https://gittisham.org.uk/events-directory/christmas-craft-fair/
END:VEVENT
END:VCALENDAR