BEGIN:VCALENDAR
VERSION:2.0
PRODID:-//eventon.com NONSGML v1.0//EN
CALSCALE:GREGORIAN
METHOD:PUBLISH
BEGIN:VEVENT
UID:69ea35dcb608f
DTSTAMP:20260423T150812Z
DTSTART:20260516T130000Z
DTEND:20260516T180000Z
LOCATION:
SUMMARY:Piano concert - International Pianist Michael Harrison
DESCRIPTION:Composer/pianist Michael Harrison (called "an American maverick
 " by Philip Glass) forges a new approach to composition through just intona
 tion (the system of tuning based on pure harmonic proportions). His works b
 lend classical music traditions of Europe and North India. He is a Guggenhe
 im Fellowship and NYFA Artist Fellowship recipient.\nhttps://gittisham.org.
 uk/events-directory/piano-concert-international-pianist-michael-harrison/
URL:https://gittisham.org.uk/events-directory/piano-concert-international-pianist-michael-harrison/
END:VEVENT
END:VCALENDAR