BEGIN:VCALENDAR
VERSION:2.0
PRODID:-//eventon.com NONSGML v1.0//EN
CALSCALE:GREGORIAN
METHOD:PUBLISH
BEGIN:VEVENT
UID:69ea35e89d0e1
DTSTAMP:20260423T150824Z
DTSTART:20260711T190000Z
DTEND:20260711T220000Z
LOCATION:
SUMMARY:Band Night - Exeter Street Band
DESCRIPTION:Band Night - Exeter Street Band\nhttps://gittisham.org.uk/event
 s-directory/band-night-exeter-street-band/
URL:https://gittisham.org.uk/events-directory/band-night-exeter-street-band/
END:VEVENT
END:VCALENDAR